BEGIN:VCALENDAR
VERSION:2.0
PRODID:-//Sud Ouest Publicite - ECPv6.5.0//NONSGML v1.0//EN
CALSCALE:GREGORIAN
METHOD:PUBLISH
X-WR-CALNAME:Sud Ouest Publicite
X-ORIGINAL-URL:https://www.sudouest-publicite.com
X-WR-CALDESC:évènements pour Sud Ouest Publicite
REFRESH-INTERVAL;VALUE=DURATION:PT1H
X-Robots-Tag:noindex
X-PUBLISHED-TTL:PT1H
BEGIN:VTIMEZONE
TZID:Europe/Paris
BEGIN:DAYLIGHT
TZOFFSETFROM:+0100
TZOFFSETTO:+0200
TZNAME:CEST
DTSTART:20260329T010000
END:DAYLIGHT
BEGIN:STANDARD
TZOFFSETFROM:+0200
TZOFFSETTO:+0100
TZNAME:CET
DTSTART:20261025T010000
END:STANDARD
END:VTIMEZONE
BEGIN:VEVENT
DTSTART;VALUE=DATE:20260505
DTEND;VALUE=DATE:20260506
DTSTAMP:20260423T080203
CREATED:20251203T151619Z
LAST-MODIFIED:20260302T103901Z
UID:22226-1777939200-1778025599@www.sudouest-publicite.com
SUMMARY:Les Etoiles du Rugby Amateur en Nouvelle Aquitaine
DESCRIPTION:[vc_row][vc_column width= »1/2″][vc_empty_space height= »45px »][vc_column_text]L’événement des Etoiles du Rugby Amateur récompense le rugby dans son ensemble\, que ce soit une joueuse\, un joueur\, un arbitre\, ou un bénévole investi au sein de son club. Cet événement est sous forme de cérémonies de récompenses suivi d’un cocktail dînatoire où tous les acteurs du rugby pourront se retrouver et échanger. \nLes Etoiles du Rugby Amateur c’est 7 soirées en Dordogne\, Charente Maritime\, Pays-Basque\, Landes\, Lot et Garonne\, Béarn et Gironde \nLes rendez-vous :\n3 mars au Stade du Hameau de Pau\n17 mars au Stade Guy et André Boniface de Mont de Marsan\n24 mars au Stade Armandie d’Agen\n30 mars à Bergerac\n14 avril au Stade Marcel-Deflandre à La Rochelle\n21 avril à Biarritz\n5 mai au Stade Chaban-Delmas de Bordeaux[/vc_column_text][vc_empty_space][cta href= »url:https%3A%2F%2Fwww.sudouest-publicite.com%2Fcontact%2F|title:Devenez%20partenaire%20des%20%C3%89toiles%20du%20Rugby%20Amateur%2C%20contactez-nous%20!|target:_blank »][vc_empty_space][/vc_column][vc_column width= »1/2″][vc_single_image image= »15894″ img_size= »large » alignment= »center »][/vc_column][/vc_row]
URL:https://www.sudouest-publicite.com/evenement/les-etoiles-du-rugby-amateur-nouvelle-aquitaine/2026-05-05/
CATEGORIES:Événement Raffut
ATTACH;FMTTYPE=image/png:https://storage.googleapis.com/cdn-sop-site-21/production/2024/01/Publication-Instagram-format-paysage-1080-x-566.png
END:VEVENT
BEGIN:VEVENT
DTSTART;VALUE=DATE:20260526
DTEND;VALUE=DATE:20260527
DTSTAMP:20260423T080203
CREATED:20251203T142007Z
LAST-MODIFIED:20251203T142116Z
UID:22190-1779753600-1779839999@www.sudouest-publicite.com
SUMMARY:Magazine raffut
DESCRIPTION:[vc_row][vc_column width= »2/3″][vc_column_text] \nDécouvrez Raffut\, notre revue pour les amoureux du rugby\n[/vc_column_text][vc_column_text]Raffut est une revue originale qui a pour ambition de vous raconter le rugby dans toute sa diversité\, dans son universalité et dans tout ce qu’il représente de culturel à travers le monde. À travers Raffut on ne traite pas du côté purement sportif mais on s’intéresse aux histoires derrière les joueurs\, les matchs\, la culture du ballon ovale.[/vc_column_text][vc_empty_space height= »20px »][cta align= »left » margin_direction= »t » margin_size= »xs » with_space= »true » href= »url:https%3A%2F%2Fwww.sudouest-publicite.com%2Fcontact%2F|title:Je%20souhaite%20communiquer%20dans%20ce%20magazine|target:_blank »][/vc_column][vc_column width= »1/3″][vc_single_image image= »20521″ img_size= »full » alignment= »center »][vc_empty_space height= »20px »][cta align= »center » href= »url:https%3A%2F%2Fraffut-rugby.fr%2F|title:En%20savoir%20plus%20sur%20Raffut|target:_blank »][/vc_column][/vc_row]
URL:https://www.sudouest-publicite.com/evenement/magazine-raffut-2026/2026-05-26/
CATEGORIES:Rendez-vous éditoriaux
ATTACH;FMTTYPE=image/png:https://storage.googleapis.com/cdn-sop-site-21/production/2025/01/raffut-11.png
END:VEVENT
BEGIN:VEVENT
DTSTART;VALUE=DATE:20260728
DTEND;VALUE=DATE:20260729
DTSTAMP:20260423T080203
CREATED:20251203T142007Z
LAST-MODIFIED:20251203T142119Z
UID:22191-1785196800-1785283199@www.sudouest-publicite.com
SUMMARY:Magazine raffut
DESCRIPTION:[vc_row][vc_column width= »2/3″][vc_column_text] \nDécouvrez Raffut\, notre revue pour les amoureux du rugby\n[/vc_column_text][vc_column_text]Raffut est une revue originale qui a pour ambition de vous raconter le rugby dans toute sa diversité\, dans son universalité et dans tout ce qu’il représente de culturel à travers le monde. À travers Raffut on ne traite pas du côté purement sportif mais on s’intéresse aux histoires derrière les joueurs\, les matchs\, la culture du ballon ovale.[/vc_column_text][vc_empty_space height= »20px »][cta align= »left » margin_direction= »t » margin_size= »xs » with_space= »true » href= »url:https%3A%2F%2Fwww.sudouest-publicite.com%2Fcontact%2F|title:Je%20souhaite%20communiquer%20dans%20ce%20magazine|target:_blank »][/vc_column][vc_column width= »1/3″][vc_single_image image= »20521″ img_size= »full » alignment= »center »][vc_empty_space height= »20px »][cta align= »center » href= »url:https%3A%2F%2Fraffut-rugby.fr%2F|title:En%20savoir%20plus%20sur%20Raffut|target:_blank »][/vc_column][/vc_row]
URL:https://www.sudouest-publicite.com/evenement/magazine-raffut-2026/2026-07-28/
CATEGORIES:Rendez-vous éditoriaux
ATTACH;FMTTYPE=image/png:https://storage.googleapis.com/cdn-sop-site-21/production/2025/01/raffut-11.png
END:VEVENT
BEGIN:VEVENT
DTSTART;VALUE=DATE:20260929
DTEND;VALUE=DATE:20260930
DTSTAMP:20260423T080203
CREATED:20251203T142007Z
LAST-MODIFIED:20251203T142124Z
UID:22192-1790640000-1790726399@www.sudouest-publicite.com
SUMMARY:Magazine raffut
DESCRIPTION:[vc_row][vc_column width= »2/3″][vc_column_text] \nDécouvrez Raffut\, notre revue pour les amoureux du rugby\n[/vc_column_text][vc_column_text]Raffut est une revue originale qui a pour ambition de vous raconter le rugby dans toute sa diversité\, dans son universalité et dans tout ce qu’il représente de culturel à travers le monde. À travers Raffut on ne traite pas du côté purement sportif mais on s’intéresse aux histoires derrière les joueurs\, les matchs\, la culture du ballon ovale.[/vc_column_text][vc_empty_space height= »20px »][cta align= »left » margin_direction= »t » margin_size= »xs » with_space= »true » href= »url:https%3A%2F%2Fwww.sudouest-publicite.com%2Fcontact%2F|title:Je%20souhaite%20communiquer%20dans%20ce%20magazine|target:_blank »][/vc_column][vc_column width= »1/3″][vc_single_image image= »20521″ img_size= »full » alignment= »center »][vc_empty_space height= »20px »][cta align= »center » href= »url:https%3A%2F%2Fraffut-rugby.fr%2F|title:En%20savoir%20plus%20sur%20Raffut|target:_blank »][/vc_column][/vc_row]
URL:https://www.sudouest-publicite.com/evenement/magazine-raffut-2026/2026-09-29/
CATEGORIES:Rendez-vous éditoriaux
ATTACH;FMTTYPE=image/png:https://storage.googleapis.com/cdn-sop-site-21/production/2025/01/raffut-11.png
END:VEVENT
BEGIN:VEVENT
DTSTART;VALUE=DATE:20261124
DTEND;VALUE=DATE:20261125
DTSTAMP:20260423T080203
CREATED:20251203T142007Z
LAST-MODIFIED:20251203T142127Z
UID:22193-1795478400-1795564799@www.sudouest-publicite.com
SUMMARY:Magazine raffut
DESCRIPTION:[vc_row][vc_column width= »2/3″][vc_column_text] \nDécouvrez Raffut\, notre revue pour les amoureux du rugby\n[/vc_column_text][vc_column_text]Raffut est une revue originale qui a pour ambition de vous raconter le rugby dans toute sa diversité\, dans son universalité et dans tout ce qu’il représente de culturel à travers le monde. À travers Raffut on ne traite pas du côté purement sportif mais on s’intéresse aux histoires derrière les joueurs\, les matchs\, la culture du ballon ovale.[/vc_column_text][vc_empty_space height= »20px »][cta align= »left » margin_direction= »t » margin_size= »xs » with_space= »true » href= »url:https%3A%2F%2Fwww.sudouest-publicite.com%2Fcontact%2F|title:Je%20souhaite%20communiquer%20dans%20ce%20magazine|target:_blank »][/vc_column][vc_column width= »1/3″][vc_single_image image= »20521″ img_size= »full » alignment= »center »][vc_empty_space height= »20px »][cta align= »center » href= »url:https%3A%2F%2Fraffut-rugby.fr%2F|title:En%20savoir%20plus%20sur%20Raffut|target:_blank »][/vc_column][/vc_row]
URL:https://www.sudouest-publicite.com/evenement/magazine-raffut-2026/2026-11-24/
CATEGORIES:Rendez-vous éditoriaux
ATTACH;FMTTYPE=image/png:https://storage.googleapis.com/cdn-sop-site-21/production/2025/01/raffut-11.png
END:VEVENT
END:VCALENDAR