BEGIN:VCALENDAR
VERSION:2.0
PRODID:-//Sud Ouest Publicite - ECPv6.5.0//NONSGML v1.0//EN
CALSCALE:GREGORIAN
METHOD:PUBLISH
X-ORIGINAL-URL:https://www.sudouest-publicite.com
X-WR-CALDESC:évènements pour Sud Ouest Publicite
REFRESH-INTERVAL;VALUE=DURATION:PT1H
X-Robots-Tag:noindex
X-PUBLISHED-TTL:PT1H
BEGIN:VTIMEZONE
TZID:Europe/Paris
BEGIN:DAYLIGHT
TZOFFSETFROM:+0100
TZOFFSETTO:+0200
TZNAME:CEST
DTSTART:20260329T010000
END:DAYLIGHT
BEGIN:STANDARD
TZOFFSETFROM:+0200
TZOFFSETTO:+0100
TZNAME:CET
DTSTART:20261025T010000
END:STANDARD
END:VTIMEZONE
BEGIN:VEVENT
DTSTART;TZID=Europe/Paris:20260423T083000
DTEND;TZID=Europe/Paris:20260423T180000
DTSTAMP:20260423T054851
CREATED:20251218T141132Z
LAST-MODIFIED:20251218T145501Z
UID:22319-1776933000-1776967200@www.sudouest-publicite.com
SUMMARY:Résolution 2026 : la journée des solutions RSE
DESCRIPTION:[vc_row][vc_column width= »1/2″][vc_empty_space height= »150px »][vc_column_text]Pour sa 4ᵉ édition\, le salon Résolution interroge un thème fort et actuel : Entreprise et Démocratie. Gouvernance\, participation\, dialogue avec les parties prenantes\, rôle des entreprises dans la société… autant de sujets au cœur des enjeux RSE d’aujourd’hui.[/vc_column_text][/vc_column][vc_column width= »1/2″][vc_single_image image= »22321″ img_size= »large » alignment= »center »][/vc_column][/vc_row][vc_row][vc_column][vc_column_text]Au programme : \n\nFresques & jeux RSE : ateliers participatifs sous forme de jeux de cartes ou de quiz\, pour mieux comprendre les grands enjeux complexes de la société et de l’environnement.\nAteliers experts RSE : rencontres en petits groupes avec des directeurs RSE de grandes entreprises\, pour découvrir les étapes de la transformation RSE\, leurs retours d’expérience et partage de bonnes pratiques.\nRDV audit consultant RSE : tête-à-tête avec un consultant pour établir un premier diagnostic dans votre entreprise. Déterminer les priorités à traiter et repartir avec un devis et un plan d’action.\nTables rondes : discussions d’experts et acteurs avancées sur la RSE pour creuser les sujets de fond.\n Village des solutions RSE : acteurs de la transition RSE\, les exposants proposent des solutions et accompagnements spécialisées autour de nombreuses thématiques (décarbonation\, économie circulaire\, mobilité\, transparence\, gouvernance\, parité & diversité\, inclusion\, insertion\, handicap\, etc.)\n\n[/vc_column_text][/vc_column][/vc_row][vc_row][vc_column][vc_column_text]Rendez-vous le 23 avril au Palais des Congrès de Bordeaux pour une journée d’échanges\, de débats et de solutions concrètes dédiée aux professionnels engagés de Nouvelle-Aquitaine.[/vc_column_text][vc_empty_space][cta align= »left » href= »url:https%3A%2F%2Fwww.resolution-rse.fr%2Fnouvelle-aquitaine%2Fsocietal%2Farticle%2Fsalon-resolution-gironde-4921|title:Participer%20%C3%A0%20l’%C3%A9dition%202026|target:_blank »][/vc_column][/vc_row]
URL:https://www.sudouest-publicite.com/evenement/resolution-2026-la-journee-des-solutions-rse/
LOCATION:Palais des Congrès de Bordeaux\, Av. Jean Gabriel Domergue\,\, Bordeaux\, 33300\, France
CATEGORIES:Evénement Placéco
ATTACH;FMTTYPE=image/jpeg:https://storage.googleapis.com/cdn-sop-site-21/production/2025/12/resolution-2026.jpg
END:VEVENT
BEGIN:VEVENT
DTSTART;TZID=Europe/Paris:20260430T084500
DTEND;TZID=Europe/Paris:20260430T110000
DTSTAMP:20260423T054851
CREATED:20260326T081933Z
LAST-MODIFIED:20260326T081933Z
UID:23479-1777538700-1777546800@www.sudouest-publicite.com
SUMMARY:[Masterclass Placéco x Sud Ouest] Communication responsable
DESCRIPTION:[vc_row][vc_column width= »1/2″][vc_empty_space height= »20px »][vc_empty_space height= »20px »][vc_empty_space height= »20px »][vc_column_text]Communication responsable : connaître les bons réflexes (et les erreurs à éviter pour ne pas tomber dans le bullshit) \nAu programme : \n\n\n8h30/8h45 : Café d’accueil\n9h : Début de la masterclass avec Elida Delbourg\, cheffe de projets transverses et RSE chez l’Agence Eliette.\n9h30 : Session de questions-réponses\n9h40 : Petit-déjeuner / Networking\n10h30 : Fin de l’événement\n\n\n[/vc_column_text][vc_empty_space height= »30px »][vc_column_text]Entrée gratuite pour tous les professionnels\, l’inscription est obligatoire.\nFormat 30 minutes de Keynote avec un accueil petit-déjeuner suivi d’un moment de networking.[/vc_column_text][vc_empty_space][cta align= »left » href= »url:https%3A%2F%2Fwww.billetweb.fr%2Fmasterclass-placeco-x-sud-ouest-11|title:Inscrivez-vous%20!|target:_blank »][/vc_column][vc_column width= »1/2″][vc_empty_space][vc_single_image image= »23501″ img_size= »full » onclick= »custom_link » link= »https://yesterday.club/event/masterclass—management »][/vc_column][/vc_row]
URL:https://www.sudouest-publicite.com/evenement/masterclass-placeco-et-sud-ouest-communication-responsable-les-bons-reflexes/
LOCATION:Sud Ouest\, 23 quai de Queyries\, Bordeaux\, 33000\, France
CATEGORIES:Evénement Placéco
ATTACH;FMTTYPE=image/png:https://storage.googleapis.com/cdn-sop-site-21/production/2026/03/Visuel-LinkedIn_Placeco-2.png
END:VEVENT
END:VCALENDAR