BEGIN:VCALENDAR
VERSION:2.0
PRODID:-//Sud Ouest Publicite - ECPv6.5.0//NONSGML v1.0//EN
CALSCALE:GREGORIAN
METHOD:PUBLISH
X-ORIGINAL-URL:https://www.sudouest-publicite.com
X-WR-CALDESC:évènements pour Sud Ouest Publicite
REFRESH-INTERVAL;VALUE=DURATION:PT1H
X-Robots-Tag:noindex
X-PUBLISHED-TTL:PT1H
BEGIN:VTIMEZONE
TZID:Europe/Paris
BEGIN:DAYLIGHT
TZOFFSETFROM:+0100
TZOFFSETTO:+0200
TZNAME:CEST
DTSTART:20250330T010000
END:DAYLIGHT
BEGIN:STANDARD
TZOFFSETFROM:+0200
TZOFFSETTO:+0100
TZNAME:CET
DTSTART:20251026T010000
END:STANDARD
END:VTIMEZONE
BEGIN:VEVENT
DTSTART;TZID=Europe/Paris:20251216T190000
DTEND;TZID=Europe/Paris:20251216T223000
DTSTAMP:20260421T150041
CREATED:20250115T151208Z
LAST-MODIFIED:20251201T103434Z
UID:20367-1765911600-1765924200@www.sudouest-publicite.com
SUMMARY:Les Etoiles du Rugby Féminin 2025
DESCRIPTION:[vc_row][vc_column width= »1/2″][vc_empty_space height= »45px »][vc_column_text]Les Etoiles du Rugby Féminin avec Ceva Santé Animale\, un événement Raffut et  Sud Ouest\, organisé en collaboration avec la FFR – Fédération Française de Rugby. \nAprès une première édition couronnée de succès\, le premier événement en France dédié exclusivement à la valorisation du rugby féminin revient pour une deuxième édition. Cette année\, rendez-vous le 16 décembre à Bordeaux pour récompenser les Étoiles de la saison 2025[/vc_column_text][vc_empty_space][vc_column_text]Une cérémonie pour célébrer le rugby féminin sous toutes ses formes.\nL’objectif des Étoiles est clair : mettre à l’honneur les talents et les acteurs engagés du rugby féminin.\nPlusieurs catégories de récompenses viendront valoriser joueuses\, staff\, bénévoles\, arbitres et initiatives inspirantes\,[/vc_column_text][vc_empty_space][vc_empty_space][cta align= »left » href= »url:https%3A%2F%2Fraffut-rugby.fr%2Fles-etoiles-du-rugby-feminin-reviennent-a-bordeaux%2F|title:En%20savoir%20plus%20sur%20les%20Etoiles%20du%20Rugby%20F%C3%A9minin|target:_blank »][/vc_column][vc_column width= »1/2″][vc_single_image image= »22076″ img_size= »large » alignment= »center »][vc_empty_space][/vc_column][/vc_row]
URL:https://www.sudouest-publicite.com/evenement/les-etoiles-du-rugby-feminin-2025/
LOCATION:Chateau Descas\, 3 quai de paludate\, bordeaux\, 33000
CATEGORIES:Événement Raffut
ATTACH;FMTTYPE=image/jpeg:https://storage.googleapis.com/cdn-sop-site-21/production/2025/01/etoiles-rugby-feminin-2025.jpg
END:VEVENT
END:VCALENDAR