BEGIN:VCALENDAR
VERSION:2.0
PRODID:-//Sud Ouest Publicite - ECPv6.5.0//NONSGML v1.0//EN
CALSCALE:GREGORIAN
METHOD:PUBLISH
X-WR-CALNAME:Sud Ouest Publicite
X-ORIGINAL-URL:https://www.sudouest-publicite.com
X-WR-CALDESC:évènements pour Sud Ouest Publicite
REFRESH-INTERVAL;VALUE=DURATION:PT1H
X-Robots-Tag:noindex
X-PUBLISHED-TTL:PT1H
BEGIN:VTIMEZONE
TZID:Europe/Paris
BEGIN:DAYLIGHT
TZOFFSETFROM:+0100
TZOFFSETTO:+0200
TZNAME:CEST
DTSTART:20260329T010000
END:DAYLIGHT
BEGIN:STANDARD
TZOFFSETFROM:+0200
TZOFFSETTO:+0100
TZNAME:CET
DTSTART:20261025T010000
END:STANDARD
END:VTIMEZONE
BEGIN:VEVENT
DTSTART;VALUE=DATE:20260708
DTEND;VALUE=DATE:20260709
DTSTAMP:20260421T110858
CREATED:20260217T142249Z
LAST-MODIFIED:20260219T163318Z
UID:23166-1783468800-1783555199@www.sudouest-publicite.com
SUMMARY:Supplément Tour de France
DESCRIPTION:[vc_row cntnr_type= »container-large » margin_direction= »t » with_space= »true » css= ».vc_custom_1649066322761{background-position: center !important;background-repeat: no-repeat !important;background-size: cover !important;} »][vc_column width= »1/4″ padding_direction= »v » padding_size= »s » with_padding= »true » offset= »vc_col-lg-offset-3 vc_col-lg-8 vc_col-sm-offset-2″][vc_column_text] \nConnectez votre marque aux territoire avec le supplément dédié au Tour de France 2026\n[/vc_column_text][vc_empty_space height= »15px »][vc_column_text]Découvrez un supplément\, en toutes éditions (16/17/24/33/40/47/64) intégré à l’univers des quotidiens du Sud Ouest\, il bénéficie de la confiance établie d’un média reconnu\, et d’une visibilité puissante sur tous les supports.[/vc_column_text][vc_empty_space][/vc_column][/vc_row][vc_row][vc_column][vc_empty_space][/vc_column][/vc_row][vc_row cntnr_type= »container-none » el_id= »offre »][vc_column width= »1/2″ offset= »vc_col-md-6″][vc_empty_space height= »30px »][vc_column_text] \nUn supplément des titres du Groupe Sud Ouest\n[/vc_column_text][vc_column_text margin_direction= »t » with_space= »true »]Le Tour de France est l’un des événements sportifs les plus emblématiques et les plus suivis en France. \nEn 2026\, avec 4 étapes clés traversant les Landes\, la Gironde\, la Dordogne et le Béarn\, notre territoire s’apprête à vivre un pic d’attention unique auprès des ses habitants et des visiteurs.\n \nPour accompagner cet événement exceptionnel\, nos rédactions se mobilisent afin d’offrir une couverture éditoriale renforcée\, au plus près des territoires et de leurs temps forts.[/vc_column_text][vc_empty_space height= »15px »][cta align= »left » href= »url:https%3A%2F%2Fwww.sudouest-publicite.com%2Fcontact%2F|title:Communiquez%20dans%20le%20suppl%C3%A9ment%20|target:_blank »][/vc_column][vc_column width= »1/2″ offset= »vc_col-md-offset-1 vc_col-md-5″][vc_empty_space height= »50px »][vc_single_image image= »23168″ img_size= »large » alignment= »center »][/vc_column][/vc_row][vc_row][vc_column][vc_empty_space][/vc_column][/vc_row][vc_row margin_direction= »v » margin_size= »xs » with_space= »true » el_id= »5arguments »][vc_column][vc_column_text margin_size= »s » with_space= »true »] \n\n3 bonnes raisons de communiquer dans ce supplément\n\n[/vc_column_text][/vc_column][/vc_row][vc_row cntnr_type= »container-large » with_space= »true »][vc_column width= »1/3″ margin_size= »xs » with_space= »true » offset= »vc_col-lg-3″][vc_column_text margin_direction= »t » with_space= »true »] \nMaximiser sa visibilité grâce à sa diffusion locale. \n[/vc_column_text][/vc_column][vc_column width= »1/3″ margin_size= »xs » with_space= »true » offset= »vc_col-lg-offset-1 vc_col-lg-3″][vc_column_text margin_direction= »t » with_space= »true »] \nToucher une audience ciblée et qualifiée. \n[/vc_column_text][/vc_column][vc_column width= »1/3″ margin_size= »xs » with_space= »true » offset= »vc_col-lg-offset-1 vc_col-lg-3″][vc_column_text margin_direction= »t » with_space= »true »] \nProfiter d’un contenu éditorial qui valorise le secteur. \n[/vc_column_text][/vc_column][/vc_row][vc_row cntnr_type= »container-large » full_width= »stretch_row » equal_height= »yes » content_placement= »middle » padding_direction= »v » padding_size= »xs » with_space= »true » with_padding= »true » css= ».vc_custom_1736442159914{background-color: #d9f1f1 !important;} »][vc_column padding_direction= »v » padding_size= »m » with_padding= »true » offset= »vc_col-lg-8 vc_col-md-7″][vc_column_text] \nVous souhaitez communiquer dans un supplément du Groupe Sud Ouest ?\n[/vc_column_text][vc_empty_space height= »30px »][cta align= »left » theme_cta= »theme-white » href= »url:https%3A%2F%2Fwww.sudouest-publicite.com%2Fcontact%2F|title:Contactez-nous|target:_blank »][/vc_column][/vc_row][vc_row][vc_column][/vc_column][/vc_row]
URL:https://www.sudouest-publicite.com/evenement/supplement-tour-de-france/
LOCATION:Sud Ouest\, 23 quai de Queyries\, Bordeaux\, 33000\, France
CATEGORIES:Rendez-vous éditoriaux
ATTACH;FMTTYPE=image/jpeg:https://storage.googleapis.com/cdn-sop-site-21/production/2026/02/Supplement-tour-de-france.jpg
END:VEVENT
END:VCALENDAR