BEGIN:VCALENDAR
VERSION:2.0
PRODID:-//Sud Ouest Publicite - ECPv6.5.0//NONSGML v1.0//EN
CALSCALE:GREGORIAN
METHOD:PUBLISH
X-WR-CALNAME:Sud Ouest Publicite
X-ORIGINAL-URL:https://www.sudouest-publicite.com
X-WR-CALDESC:évènements pour Sud Ouest Publicite
REFRESH-INTERVAL;VALUE=DURATION:PT1H
X-Robots-Tag:noindex
X-PUBLISHED-TTL:PT1H
BEGIN:VTIMEZONE
TZID:Europe/Paris
BEGIN:DAYLIGHT
TZOFFSETFROM:+0100
TZOFFSETTO:+0200
TZNAME:CEST
DTSTART:20250330T010000
END:DAYLIGHT
BEGIN:STANDARD
TZOFFSETFROM:+0200
TZOFFSETTO:+0100
TZNAME:CET
DTSTART:20251026T010000
END:STANDARD
END:VTIMEZONE
BEGIN:VEVENT
DTSTART;TZID=Europe/Paris:20250703T190000
DTEND;TZID=Europe/Paris:20250703T210000
DTSTAMP:20260423T084533
CREATED:20250626T161753Z
LAST-MODIFIED:20250626T161753Z
UID:21169-1751569200-1751576400@www.sudouest-publicite.com
SUMMARY:Placéco Live avec Joël Dupuch
DESCRIPTION:[vc_row][vc_column width= »2/3″][vc_empty_space height= »45px »][vc_column_text]Joël Dupuch\, invité du Live de Placéco \nLe 3 juillet\, à Bordeaux\, l’ostréiculteur et comédien dans « Les petits mouchoirs » sera l’invité de l’interview en public de la rédaction de Placéco\, pour parler entrepreneuriat et environnement.[/vc_column_text][vc_empty_space height= »15px »][cta align= »left » href= »url:https%3A%2F%2Fwww.placeco.fr%2Fgironde%2Finspiration%2Farticle%2Fjoel-dupuch-invite-du-live-de-placeco-8085|title:En%20savoir%20plus%20″][vc_empty_space height= »45px »][/vc_column][vc_column width= »1/3″][vc_empty_space height= »50px »][vc_single_image image= »21171″ img_size= »full »][vc_empty_space height= »50px »][/vc_column][/vc_row][vc_row][vc_column][vc_empty_space height= »45px »][/vc_column][/vc_row]
URL:https://www.sudouest-publicite.com/evenement/placeco-live-joel-dupuch/
LOCATION:Chantier naval Open Lune\, 21 Parc d'Activités des Queyries\, Bordeaux
CATEGORIES:Evénement Placéco
END:VEVENT
END:VCALENDAR