BEGIN:VCALENDAR
VERSION:2.0
PRODID:-//Sud Ouest Publicite - ECPv6.5.0//NONSGML v1.0//EN
CALSCALE:GREGORIAN
METHOD:PUBLISH
X-WR-CALNAME:Sud Ouest Publicite
X-ORIGINAL-URL:https://www.sudouest-publicite.com
X-WR-CALDESC:évènements pour Sud Ouest Publicite
REFRESH-INTERVAL;VALUE=DURATION:PT1H
X-Robots-Tag:noindex
X-PUBLISHED-TTL:PT1H
BEGIN:VTIMEZONE
TZID:Europe/Paris
BEGIN:DAYLIGHT
TZOFFSETFROM:+0100
TZOFFSETTO:+0200
TZNAME:CEST
DTSTART:20260329T010000
END:DAYLIGHT
BEGIN:STANDARD
TZOFFSETFROM:+0200
TZOFFSETTO:+0100
TZNAME:CET
DTSTART:20261025T010000
END:STANDARD
END:VTIMEZONE
BEGIN:VEVENT
DTSTART;TZID=Europe/Paris:20260205T183000
DTEND;TZID=Europe/Paris:20260205T230000
DTSTAMP:20260423T094415
CREATED:20251203T143834Z
LAST-MODIFIED:20260119T142504Z
UID:22204-1770316200-1770332400@www.sudouest-publicite.com
SUMMARY:Grande soirée annuelle Placéco Pays basque
DESCRIPTION:[vc_row][vc_column width= »2/3″][vc_empty_space][vc_column_text]La soirée annuelle Placéco Pays basque revient… avec Placécopoly ! \nLe 5 février\, au Connecteur\, Placéco vous invite à notre soirée annuelle\, qui cette année se transforme en jeu de société grandeur nature ✨\nQuatre invités de l’écosystème basque viendront jouer\, partager leur parcours et relever les défis du Placécopoly dans une ambiance conviviale et inspirante.[/vc_column_text][vc_empty_space height= »15px »][cta align= »left » href= »url:https%3A%2F%2Fwww.billetweb.fr%2Fsoiree-annuelle-placeco-pays-basque1|title:R%C3%A9servez%20votre%20place%20!|target:_blank »][/vc_column][vc_column width= »1/3″][vc_single_image image= »22709″ img_size= »large » alignment= »center »][/vc_column][/vc_row][vc_row][vc_column][vc_empty_space][/vc_column][/vc_row]
URL:https://www.sudouest-publicite.com/evenement/grande-soiree-placeco-pays-basque-2026/
LOCATION:Connecteur Biarritz\, 45 Av. du Président J F Kennedy\,\, Biarritz\, 64200
CATEGORIES:Evénement Placéco
ATTACH;FMTTYPE=image/png:https://storage.googleapis.com/cdn-sop-site-21/production/2025/12/Placeco_Soiree-annuelle-Pays-basque.png
END:VEVENT
END:VCALENDAR