BEGIN:VCALENDAR
VERSION:2.0
PRODID:-//Sud Ouest Publicite - ECPv6.5.0//NONSGML v1.0//EN
CALSCALE:GREGORIAN
METHOD:PUBLISH
X-WR-CALNAME:Sud Ouest Publicite
X-ORIGINAL-URL:https://www.sudouest-publicite.com
X-WR-CALDESC:évènements pour Sud Ouest Publicite
REFRESH-INTERVAL;VALUE=DURATION:PT1H
X-Robots-Tag:noindex
X-PUBLISHED-TTL:PT1H
BEGIN:VTIMEZONE
TZID:Europe/Paris
BEGIN:DAYLIGHT
TZOFFSETFROM:+0100
TZOFFSETTO:+0200
TZNAME:CEST
DTSTART:20240331T010000
END:DAYLIGHT
BEGIN:STANDARD
TZOFFSETFROM:+0200
TZOFFSETTO:+0100
TZNAME:CET
DTSTART:20241027T010000
END:STANDARD
END:VTIMEZONE
BEGIN:VEVENT
DTSTART;TZID=Europe/Paris:20240307T183000
DTEND;TZID=Europe/Paris:20240307T210000
DTSTAMP:20260423T105242
CREATED:20240103T103738Z
LAST-MODIFIED:20240117T153725Z
UID:15643-1709836200-1709845200@www.sudouest-publicite.com
SUMMARY:Grande soirée anniversaire Placéco Bearn
DESCRIPTION:[vc_row][vc_column width= »2/3″][vc_empty_space height= »45px »][vc_column_text]A l’occasion de ses 1 an\, Placéco Bearn organise une grande soirée anniversaire. \nL’équipe de Placéco Bearn reviendra sur le chemin parcouru\, puis\, comme toujours\, parlera d’économie! \nAu programme\, un faux procès autour du sujet de la marque employeur\, et si un employé attaquait son patron pour « marque employeur abusive » ? \nL’occasion de parler de ce sujet actuel\, et d’évoquer sur un ton décalé et informatif\, des sujets tels que la fidélisation des employés\, la communication RH et les attentes respectives des salariés et employeurs. \nSoyez bien attentifs aux arguments des experts et avocats car à la fin.. C’est vous qui donnerez raison à l’une au l’autre partie ! \n  \nRendez-vous le jeudi 07 mars à partir de 18h45 au Palais Beaumont à Pau.[/vc_column_text][vc_empty_space height= »45px »][cta href= »url:https%3A%2F%2Fwww.placeco.fr%2Fbearn%2Fevenement|title:Je%20souhaite%20m’inscrire%20%C3%A0%20l’%C3%A9v%C3%A9nement|target:_blank »][/vc_column][vc_column width= »1/3″][vc_empty_space height= »50px »][vc_single_image image= »15649″ img_size= »medium » alignment= »center »][/vc_column][/vc_row][vc_row][vc_column][vc_empty_space height= »45px »][/vc_column][/vc_row]
URL:https://www.sudouest-publicite.com/evenement/grande-soiree-1-an-placeco-bearn/
LOCATION:Palais Beaumont de Pau\, All. Alfred de Musset\, Pau\, 64000\, France
CATEGORIES:Evénement Placéco
ATTACH;FMTTYPE=image/png:https://storage.googleapis.com/cdn-sop-site-21/production/2024/01/Bearn-2024-e1705073181310.png
END:VEVENT
END:VCALENDAR