BEGIN:VCALENDAR
VERSION:2.0
PRODID:-//Sud Ouest Publicite - ECPv6.5.0//NONSGML v1.0//EN
CALSCALE:GREGORIAN
METHOD:PUBLISH
X-WR-CALNAME:Sud Ouest Publicite
X-ORIGINAL-URL:https://www.sudouest-publicite.com
X-WR-CALDESC:évènements pour Sud Ouest Publicite
REFRESH-INTERVAL;VALUE=DURATION:PT1H
X-Robots-Tag:noindex
X-PUBLISHED-TTL:PT1H
BEGIN:VTIMEZONE
TZID:Europe/Paris
BEGIN:DAYLIGHT
TZOFFSETFROM:+0100
TZOFFSETTO:+0200
TZNAME:CEST
DTSTART:20230326T010000
END:DAYLIGHT
BEGIN:STANDARD
TZOFFSETFROM:+0200
TZOFFSETTO:+0100
TZNAME:CET
DTSTART:20231029T010000
END:STANDARD
END:VTIMEZONE
BEGIN:VEVENT
DTSTART;TZID=Europe/Paris:20230331T090000
DTEND;TZID=Europe/Paris:20230331T170000
DTSTAMP:20260426T063117
CREATED:20230320T082958Z
LAST-MODIFIED:20230427T154216Z
UID:11455-1680253200-1680282000@www.sudouest-publicite.com
SUMMARY:Demain Déplacements
DESCRIPTION:[vc_row][vc_column width= »1/2″][vc_column_text]Autour du grand témoin Jean Pisani-Ferry\, économiste et président de France Stratégie\, Sud Ouest et TV7 réunissent les acteurs locaux pour penser les déplacements de demain et répondre à la question suivante : \n comment atteindre l’objectif de neutralité carbone sans dégrader la vie quotidienne des populations ? \nTrois tables rondes\, des temps d’échanges avec le public et une conclusion de cette journée par le ministre des Transports. \nEn présence de Clément Beaune\, Alain Rousset et Jean Pisani-Ferry.[/vc_column_text][vc_empty_space][cta href= »url:http%3A%2F%2Fdemaindeplacements-bordeaux.com%2F|title:D%C3%A9couvrez%20le%20programme%20et%20inscrivez-vous%20%C3%A0%20cette%20journ%C3%A9e »][/vc_column][vc_column width= »1/2″][vc_single_image image= »11460″ img_size= »large »][/vc_column][/vc_row]
URL:https://www.sudouest-publicite.com/evenement/demain-deplacements/
LOCATION:Palais des Congrès de Bordeaux\, Av. Jean Gabriel Domergue\,\, Bordeaux\, 33300\, France
CATEGORIES:Table Ronde / Conférence
ATTACH;FMTTYPE=image/gif:https://storage.googleapis.com/cdn-sop-site-21/production/2023/03/demain_circulation-e1679300548806.gif
END:VEVENT
END:VCALENDAR