BEGIN:VCALENDAR
VERSION:2.0
PRODID:-//Sud Ouest Publicite - ECPv6.5.0//NONSGML v1.0//EN
CALSCALE:GREGORIAN
METHOD:PUBLISH
X-WR-CALNAME:Sud Ouest Publicite
X-ORIGINAL-URL:https://www.sudouest-publicite.com
X-WR-CALDESC:évènements pour Sud Ouest Publicite
REFRESH-INTERVAL;VALUE=DURATION:PT1H
X-Robots-Tag:noindex
X-PUBLISHED-TTL:PT1H
BEGIN:VTIMEZONE
TZID:Europe/Paris
BEGIN:DAYLIGHT
TZOFFSETFROM:+0100
TZOFFSETTO:+0200
TZNAME:CEST
DTSTART:20240331T010000
END:DAYLIGHT
BEGIN:STANDARD
TZOFFSETFROM:+0200
TZOFFSETTO:+0100
TZNAME:CET
DTSTART:20241027T010000
END:STANDARD
END:VTIMEZONE
BEGIN:VEVENT
DTSTART;TZID=Europe/Paris:20240202T180000
DTEND;TZID=Europe/Paris:20240202T184500
DTSTAMP:20260421T111327
CREATED:20240124T134259Z
LAST-MODIFIED:20240422T150319Z
UID:16307-1706896800-1706899500@www.sudouest-publicite.com
SUMMARY:Conférence cancer du Poumon en partenariat avec le CHU de Bordeaux
DESCRIPTION:[vc_row][vc_column width= »1/2″][vc_empty_space height= »45px »][vc_column_text]Sud Ouest et TV7\, en partenariat avec le CHU de Bordeaux\, vous proposent deux tables rondes\, avec la participation de professionnels de santé du CHU : \n\nLes nouvelles approches en chirurgie et radiothérapie\nDiagnostic\, traitements et prises en charge innovantes et personnalisées\n\n  \nEvènement en ligne le vendredi 2 février à partir de 18h00. [/vc_column_text][vc_empty_space][cta href= »url:https%3A%2F%2Fevenements.sudouest.fr%2F2024-chu-poumon%2F|title:Je%20souhaiter%20recevoir%20les%20liens%20de%20diffusion%20des%20conf%C3%A9rences|target:_blank »][vc_empty_space][cta href= »url:https%3A%2F%2Fwww.sudouest.fr%2Fsante%2Fcancer%2Flutte-contre-le-cancer-une-nouvelle-conference-avec-sud-ouest-et-tv7-18375029.php|title:En%20savoir%20plus%20sur%20la%20conf%C3%A9rence%20|target:_blank »][/vc_column][vc_column width= »1/2″][vc_gallery type= »flexslider_slide » interval= »3″ images= »16344\,16311″ img_size= »medium »][/vc_column][/vc_row]
URL:https://www.sudouest-publicite.com/evenement/conference-cancer-du-poumon/2024-02-02/
LOCATION:Sud Ouest\, 23 quai de Queyries\, Bordeaux\, 33000\, France
CATEGORIES:Evénement Sud Ouest
ATTACH;FMTTYPE=image/jpeg:https://storage.googleapis.com/cdn-sop-site-21/production/2024/01/Conference-cancer-du-poumon-2eme-rdv-02.02.24.jpg
END:VEVENT
END:VCALENDAR